BEGIN:VCALENDAR
VERSION:2.0
PRODID:-//https://www.barry-lane-songwriter.org.uk///NONSGML kigkonsult.se iCalcreator 2.10.15//
METHOD:PUBLISH
BEGIN:VEVENT
UID:20260421T135337UTC-2000gbH9a5@https://www.barry-lane-songwriter.org.uk/
DTSTAMP:20260421T135337Z
DESCRIPTION:The Filing Room Sessions Music Club at Topsham Brewery\, Exeter
 \, is a relaxed Sunday afternoon of music. Hang out with friends\, try out
  new musical ideas\, do your own set of songs\, enjoy some great ales.\nWe
  are looking forward to playing a 35m set of Barry's songs with the full b
 and. https://www.barry-lane-songwriter.org.uk/gigs2/event/14-filing-room-s
 essions-music-club-exeter
DTSTART:20200209T130000Z
DTEND:20200209T133000Z
LOCATION:Topsham Brewery\, Exeter (Haven Rd\, Exeter EX2 8GR\, UK)
SUMMARY:Filing Room Sessions Music Club - Exeter
URL:https://www.barry-lane-songwriter.org.uk/gigs2/event/14-filing-room-ses
 sions-music-club-exeter
END:VEVENT
END:VCALENDAR
