BEGIN:VCALENDAR
VERSION:2.0
PRODID:-//https://www.barry-lane-songwriter.org.uk///NONSGML kigkonsult.se iCalcreator 2.10.15//
METHOD:PUBLISH
BEGIN:VEVENT
UID:20260421T142515UTC-02625Brweh@https://www.barry-lane-songwriter.org.uk/
DTSTAMP:20260421T142515Z
DESCRIPTION:\nFolk Around Fishponds takes placefrom 8pm every 2nd and 4th T
 uesday of each month atThe Cross Hands\,1 Staple Hill Road\, Fishponds\,Br
 istol BS16 5AA\nwww.thecrosshandsbristol.co.uk\nBarry Lane and the Fridge 
 Mechanics are spotlight guests at Folk Around Fishponds on Tuesday evening
  28th June\, starting 7.30pm. https://www.barry-lane-songwriter.org.uk/gig
 s2/event/16-folk-around-fishponds-guest-spotlight
DTSTART:20220823T193000Z
DTEND:20220823T223000Z
LOCATION:Folk Around Fishponds (CrossHands Pub) (Staple Hill Rd\, Bristol B
 S16 5AA\, UK)
SUMMARY:Folk Around Fishponds - Guest Spotlight
URL:https://www.barry-lane-songwriter.org.uk/gigs2/event/16-folk-around-fis
 hponds-guest-spotlight
END:VEVENT
END:VCALENDAR
