BEGIN:VCALENDAR
VERSION:2.0
PRODID:-//https://www.barry-lane-songwriter.org.uk///NONSGML kigkonsult.se iCalcreator 2.10.15//
METHOD:PUBLISH
BEGIN:VEVENT
UID:20260421T142610UTC-8439svIuB2@https://www.barry-lane-songwriter.org.uk/
DTSTAMP:20260421T142610Z
DESCRIPTION: https://www.barry-lane-songwriter.org.uk/gigs2/event/3-art-on-
 the-hill-in-victoria-park
DTSTART:20211002T140000Z
DTEND:20211002T213000Z
LOCATION:Victoria Park (34 Nutgrove Ave\, Bristol BS3 4QF\, UK)
SUMMARY:Art on the Hill in Victoria Park
URL:https://www.barry-lane-songwriter.org.uk/gigs2/event/3-art-on-the-hill-
 in-victoria-park
END:VEVENT
END:VCALENDAR
