BEGIN:VCALENDAR
VERSION:2.0
PRODID:-//https://www.barry-lane-songwriter.org.uk///NONSGML kigkonsult.se iCalcreator 2.10.15//
METHOD:PUBLISH
BEGIN:VEVENT
UID:20260422T215259UTC-1777P8Lt7z@https://www.barry-lane-songwriter.org.uk/
DTSTAMP:20260422T215259Z
DESCRIPTION:&nbsp\;This will be our 9th year playing at Bath Festival Party
  in the City.&nbsp\;&nbsp\; We've visited a range of amazing venues over t
 he years\, including Holborne Museum\, No1 Royal Crescent and the Love Lou
 nge at the Old Bell!&nbsp\; Thanks to Gerie Herbert for her kind invite to
  share this venue for the evening\, BRLSI (The British Royal Literary and 
 Scientific Institute\, 16-18 Queen Square\, Bath BA1 2HN.The evening start
 s at 5pm and the evening will include poetry\, music and singing from a va
 riety of performers.\nThe second half will include a set of lyrical folk-r
 ock songs from Barry Lane and the Fridge Mechanics featuring Barry Lane (v
 ox/guitar)\, Angel Cleary (vox)\, Ian Hay (percussion) and Nick Osborne (g
 uitars).&nbsp\; Should be a rich and varied evening of music and poetry pe
 rformed in a great venue\, just off Queen's Square\, in the middle of Bath
 .\n&nbsp\; https://www.barry-lane-songwriter.org.uk/gigs2/event/10-bath-fe
 stival-party-in-the-city-2024
DTSTART:20240517T170000Z
DTEND:20240517T190000Z
LOCATION:BRSLI (16-18 Queen Square\, Bath BA1 2HN)
SUMMARY:Bath Festival Party in the City 2024
URL:https://www.barry-lane-songwriter.org.uk/gigs2/event/10-bath-festival-p
 arty-in-the-city-2024
END:VEVENT
END:VCALENDAR
