BEGIN:VCALENDAR
VERSION:2.0
PRODID:-//https://www.barry-lane-songwriter.org.uk///NONSGML kigkonsult.se iCalcreator 2.10.15//
METHOD:PUBLISH
BEGIN:VEVENT
UID:20260421T101713UTC-3520gnSMPU@https://www.barry-lane-songwriter.org.uk/
DTSTAMP:20260421T101713Z
DESCRIPTION:This is an annual\, family friendly community festival in Victo
 ria Park\, Bedminster\, not far from Bedminster Station. Each year we pres
 ent a Poetry and Folk stage showcasing an afternoon of local performing ta
 lent. Barry and the Fridges will be doing a set during the afternoon. Ther
 e is a well stocked refreshment van\, a local playground for the kids and 
 plenty of grass to picnic and relax on. While you are there\, take in some
  of the other performances elsewhere in the park\, and many other events a
 nd showcases to browse. https://www.barry-lane-songwriter.org.uk/gigs2/eve
 nt/17-victoria-park-festival-2024
DTSTART:20240914T130000Z
DTEND:20240914T170000Z
LOCATION:Victoria Park (34 Nutgrove Ave\, Bristol BS3 4QF\, UK)
SUMMARY:Victoria Park Festival 2024
URL:https://www.barry-lane-songwriter.org.uk/gigs2/event/17-victoria-park-f
 estival-2024
END:VEVENT
END:VCALENDAR
